BEGIN:VCALENDAR
VERSION:2.0
PRODID:-//Carl Cherry Center for the Arts - ECPv6.15.20//NONSGML v1.0//EN
CALSCALE:GREGORIAN
METHOD:PUBLISH
X-WR-CALNAME:Carl Cherry Center for the Arts
X-ORIGINAL-URL:https://carlcherrycenter.org
X-WR-CALDESC:Events for Carl Cherry Center for the Arts
REFRESH-INTERVAL;VALUE=DURATION:PT1H
X-Robots-Tag:noindex
X-PUBLISHED-TTL:PT1H
BEGIN:VTIMEZONE
TZID:America/Los_Angeles
BEGIN:DAYLIGHT
TZOFFSETFROM:-0800
TZOFFSETTO:-0700
TZNAME:PDT
DTSTART:20190310T100000
END:DAYLIGHT
BEGIN:STANDARD
TZOFFSETFROM:-0700
TZOFFSETTO:-0800
TZNAME:PST
DTSTART:20191103T090000
END:STANDARD
BEGIN:DAYLIGHT
TZOFFSETFROM:-0800
TZOFFSETTO:-0700
TZNAME:PDT
DTSTART:20200308T100000
END:DAYLIGHT
BEGIN:STANDARD
TZOFFSETFROM:-0700
TZOFFSETTO:-0800
TZNAME:PST
DTSTART:20201101T090000
END:STANDARD
BEGIN:DAYLIGHT
TZOFFSETFROM:-0800
TZOFFSETTO:-0700
TZNAME:PDT
DTSTART:20210314T100000
END:DAYLIGHT
BEGIN:STANDARD
TZOFFSETFROM:-0700
TZOFFSETTO:-0800
TZNAME:PST
DTSTART:20211107T090000
END:STANDARD
END:VTIMEZONE
BEGIN:VEVENT
DTSTART;VALUE=DATE:20200307
DTEND;VALUE=DATE:20200329
DTSTAMP:20260420T063806
CREATED:20200219T200925Z
LAST-MODIFIED:20200804T013147Z
UID:10000474-1583539200-1585439999@carlcherrycenter.org
SUMMARY:Thinking Out Loud - Monterey County High School Art Exhibition
DESCRIPTION:Thinking Out Loud\, our annual  Monterey County high school student art exhibition\, opens Saturday\, March 7th\, with an artist reception from 3:00 – 5:00 p.m. in the Cherry Center’s gallery on Fourth and Guadalupe\, Carmel. The event is free and open to the public. The exhibit can be seen through March 28th\, 2020\, during regular gallery hours: Wednesday through Friday from 11:00 a.m. to 4:00 p.m.\, Saturday noon to 4:00 p.m.\, or by appointment. \nThis program is made possible in part through grants from the Arts Council for Monterey County\, and funding from the Monterey County Board of Supervisors\, Community Foundation for Monterey County\, Pebble Beach Company Foundation\, Nancy Buck Ransom Foundation\, Carmel-by-the-Sea Rotary\, Volunteer Services for Monterey County\, and Yellow Brick Road Benefit Store. \nPhoto above: Caitlin Sullivan\, Santa Catalina\n  \n 
URL:https://carlcherrycenter.org/event/thinking-out-loud-monterey-county-high-school-art-exhibition/
LOCATION:4th and Guadalupe\, Carmel\, CA\, 93921\, United States
CATEGORIES:Cherry Gallery
ATTACH;FMTTYPE=image/jpeg:https://carlcherrycenter.org/wp/wp-content/uploads/2020/02/KaitlinSullivanSantaCatalina22Afternoon22-e1582405253229.jpg
END:VEVENT
END:VCALENDAR