BEGIN:VCALENDAR
VERSION:2.0
PRODID:-//Carl Cherry Center for the Arts - ECPv6.15.20//NONSGML v1.0//EN
CALSCALE:GREGORIAN
METHOD:PUBLISH
X-ORIGINAL-URL:https://carlcherrycenter.org
X-WR-CALDESC:Events for Carl Cherry Center for the Arts
REFRESH-INTERVAL;VALUE=DURATION:PT1H
X-Robots-Tag:noindex
X-PUBLISHED-TTL:PT1H
BEGIN:VTIMEZONE
TZID:America/Los_Angeles
BEGIN:DAYLIGHT
TZOFFSETFROM:-0800
TZOFFSETTO:-0700
TZNAME:PDT
DTSTART:20220313T100000
END:DAYLIGHT
BEGIN:STANDARD
TZOFFSETFROM:-0700
TZOFFSETTO:-0800
TZNAME:PST
DTSTART:20221106T090000
END:STANDARD
BEGIN:DAYLIGHT
TZOFFSETFROM:-0800
TZOFFSETTO:-0700
TZNAME:PDT
DTSTART:20230312T100000
END:DAYLIGHT
BEGIN:STANDARD
TZOFFSETFROM:-0700
TZOFFSETTO:-0800
TZNAME:PST
DTSTART:20231105T090000
END:STANDARD
BEGIN:DAYLIGHT
TZOFFSETFROM:-0800
TZOFFSETTO:-0700
TZNAME:PDT
DTSTART:20240310T100000
END:DAYLIGHT
BEGIN:STANDARD
TZOFFSETFROM:-0700
TZOFFSETTO:-0800
TZNAME:PST
DTSTART:20241103T090000
END:STANDARD
END:VTIMEZONE
BEGIN:VEVENT
DTSTART;TZID=America/Los_Angeles:20231208T160000
DTEND;TZID=America/Los_Angeles:20231216T160000
DTSTAMP:20260423T015250
CREATED:20231117T190524Z
LAST-MODIFIED:20231209T194811Z
UID:10000777-1702051200-1702742400@carlcherrycenter.org
SUMMARY:Make Merry at The Cherry Art Sale
DESCRIPTION:Make Merry at The Cherry\, our annual pop-up art sale\, is open now through Saturday\, December 16th\, during gallery hours: Wednesday through Saturday from noon to 4pm or by appointment. \nProceeds will support the Cherry’s ongoing contribution to the arts community of Monterey County. For more information about this event\, please call (831) 624-7491. \nImage\, top: Untitled – Peter Hiller
URL:https://carlcherrycenter.org/event/make-merry-at-the-cherry-2023/
LOCATION:The Carl Cherry Center\, Fourth and Guadalupe\, Carmel\, CA\, 93921\, United States
CATEGORIES:Cherry Gallery,Highlight
ATTACH;FMTTYPE=image/png:https://carlcherrycenter.org/wp/wp-content/uploads/2023/11/Header-Playfest-23-flyer-600-×-450-px.png
ORGANIZER;CN="Carl Cherry Center for the Arts":MAILTO:info@carlcherry.org
END:VEVENT
BEGIN:VEVENT
DTSTART;TZID=America/Los_Angeles:20231210T140000
DTEND;TZID=America/Los_Angeles:20231210T160000
DTSTAMP:20260423T015250
CREATED:20231027T210150Z
LAST-MODIFIED:20231103T162758Z
UID:10000775-1702216800-1702224000@carlcherrycenter.org
SUMMARY:Along Came Betty - Jazz at The Cherry
DESCRIPTION:Jazz at The Cherry will once again bring the year to a “bebobing” close with Along Came Betty for another round of what has become a traditional December treat. Join us Sunday\, December 10th\, for some great music\, wine and light fare–all included in the ticket price. Doors open at 1:00pm; performance begins at 2:00pm. Tickets are $35\, available online at eventbrite.com or by calling (831) 624-7491. \nSpark up your holiday spirit with some of the best bebob and straight-ahead jazz on the West Coast. Along Came Betty will delight you with their rich harmonized sax and trumpet\, backed by the classic piano\, bass and drums rhythm section. \nThis group of highly talented musicians (Biff Smith\, piano; Brian Stock\, trumpet and flugelhorn; Paul Tarantino\, saxophone; Zack Westfall\, bass; Patrick Tregenza\, drums) has performed at many local and national jazz venues\, including the Monterey Jazz Festival and the Big Sur Jazz Festival. Since 1998\, they have been celebrating the spirit of hard-bop\, a seminal movement of 50s and 60s jazz. Pianist and prolific composer Biff Smith’s sophisticated yet highly accessible compositions blend elements of that era with modern sensibilities. \n  \n 
URL:https://carlcherrycenter.org/event/along-came-betty-jazz-at-the-cherry-4/
LOCATION:The Carl Cherry Center\, Fourth and Guadalupe\, Carmel\, CA\, 93921\, United States
CATEGORIES:Cherry Hall Theater,Highlight
ATTACH;FMTTYPE=image/png:https://carlcherrycenter.org/wp/wp-content/uploads/2022/09/ACB-Header-v2.png
ORGANIZER;CN="Carl Cherry Center for the Arts":MAILTO:info@carlcherry.org
END:VEVENT
END:VCALENDAR