BEGIN:VCALENDAR
VERSION:2.0
PRODID:-//Carl Cherry Center for the Arts - ECPv6.15.20//NONSGML v1.0//EN
CALSCALE:GREGORIAN
METHOD:PUBLISH
X-ORIGINAL-URL:https://carlcherrycenter.org
X-WR-CALDESC:Events for Carl Cherry Center for the Arts
REFRESH-INTERVAL;VALUE=DURATION:PT1H
X-Robots-Tag:noindex
X-PUBLISHED-TTL:PT1H
BEGIN:VTIMEZONE
TZID:America/Los_Angeles
BEGIN:DAYLIGHT
TZOFFSETFROM:-0800
TZOFFSETTO:-0700
TZNAME:PDT
DTSTART:20150308T100000
END:DAYLIGHT
BEGIN:STANDARD
TZOFFSETFROM:-0700
TZOFFSETTO:-0800
TZNAME:PST
DTSTART:20151101T090000
END:STANDARD
BEGIN:DAYLIGHT
TZOFFSETFROM:-0800
TZOFFSETTO:-0700
TZNAME:PDT
DTSTART:20160313T100000
END:DAYLIGHT
BEGIN:STANDARD
TZOFFSETFROM:-0700
TZOFFSETTO:-0800
TZNAME:PST
DTSTART:20161106T090000
END:STANDARD
BEGIN:DAYLIGHT
TZOFFSETFROM:-0800
TZOFFSETTO:-0700
TZNAME:PDT
DTSTART:20170312T100000
END:DAYLIGHT
BEGIN:STANDARD
TZOFFSETFROM:-0700
TZOFFSETTO:-0800
TZNAME:PST
DTSTART:20171105T090000
END:STANDARD
END:VTIMEZONE
BEGIN:VEVENT
DTSTART;VALUE=DATE:20160715
DTEND;VALUE=DATE:20160827
DTSTAMP:20260423T022041
CREATED:20160527T191555Z
LAST-MODIFIED:20160708T231557Z
UID:10000329-1468540800-1472255999@carlcherrycenter.org
SUMMARY:From the Vault: Forest Theater Poster Art
DESCRIPTION:Opening Reception: Friday\, July 15th from 5pm – 7pm.\nFrom the Vault: Forest Theater Poster Art\, a rich and prominent collection of original Forest Theater poster art\, opens Friday\, July 15th at the Carl Cherry Center for the Arts. An opening reception will be held from 5 to 7 p.m. The event is free and open to the public. \nPart of Carmel’s Centennial\, the exhibit is drawn from the Pacific Repertory Theatre’s poster collection and will included a selection of posters—some of which can be purchased\, with proceeds benefiting Pacific Repertory Theatre and the Carl Cherry Center for the Arts. \n \nThe posters are from approximately two dozen theater productions created by a range of illustrators from 1910 through the 1950’s. One of the favorite forms of entertainment in early years of Carmel was the theater arts\, whose epicenter was the Forest Theater. The collection features posters from a wide range of plays\, including Robinson Jeffers’ Tower Beyond Tragedy starring Dame Judith Anderson\, to The First Poet by Jack London\, and Fire by Mary Austin\, among others. Together\, the posters offer a window into Carmel’s vibrant theater scene and its leading actors and actress of the era. \nActor/director Herbert Heron is commonly called the founder of the Forest Theater and poet/novelist Mary Austin recognized as the muse behind the theater.  As first envisioned\, original works by California authors\, children’s theatre\, and the plays of Shakespeare were the primary focus.  Since its inception\, a variety of artists and theatre groups have presented plays\, pageants\, musical offerings and other performances on the outdoor stage\, and the facility’s smaller indoor theatre and school. \n“Heron was a known bibliophile – saving posters\, programs\, scripts and memorabilia from Carmel’s cultural history. When he passed away\, he left much of his collection to his daughter\, Constance\, who kept it packed away in their home in Carmel Valley\,” writes Stephen Moore\, Founder and Executive Director of Pacific Repertory Theatre. \nAcquired by Pac Rep prior to her death in 1990 and exhibited in depth for the first time\, the programs remain in pristine condition. Pacific Repertory Theatre\, whose annual festival of the same name\, continues to 116-year tradition of presenting Shakesperare\, Children’s Theater and contemporary plays. \nThe exhibit can be seen Monday through Friday from 11 to 4 p.m. or by appointment\, through August 26th.
URL:https://carlcherrycenter.org/event/from-the-vault-forest-theater-poster-art/
LOCATION:The Carl Cherry Center\, Fourth and Guadalupe\, Carmel\, CA\, 93921\, United States
CATEGORIES:Cherry Gallery
ATTACH;FMTTYPE=image/jpeg:https://carlcherrycenter.org/wp/wp-content/uploads/2016/07/Hamlet-3-e1468019744732.jpg
END:VEVENT
BEGIN:VEVENT
DTSTART;VALUE=DATE:20160812
DTEND;VALUE=DATE:20160822
DTSTAMP:20260423T022041
CREATED:20160527T192408Z
LAST-MODIFIED:20160811T002626Z
UID:10000333-1470960000-1471823999@carlcherrycenter.org
SUMMARY:An Interview with Kurt Vonnegut\, Jr.
DESCRIPTION:A STAGED READING\nWritten and Directed by Carol Marquart\nBe prepared to laugh and cry when you meet 84 year old Kurt Vonnegut Jr.\, as he gets a call from an old flame from his days of teaching Creative Writing at the University of Iowa. Starring Keith Decker & Carrie Collier. \nAugust 12\, 13\, 14 \nAugust 19\, 20\, 21 \nFriday and Saturday evenings – 7:30pm \nSunday matinees – 2pm \nTickets are $20 and can be purchased online at www.brownpapertickets.com \nInformation 831-375-2235
URL:https://carlcherrycenter.org/event/an-interview-with-kurt-vonnegut-jr/
LOCATION:The Carl Cherry Center\, Fourth and Guadalupe\, Carmel\, CA\, 93921\, United States
CATEGORIES:Cherry Hall Theater
ATTACH;FMTTYPE=image/jpeg:https://carlcherrycenter.org/wp/wp-content/uploads/2016/05/images-3.jpg
END:VEVENT
BEGIN:VEVENT
DTSTART;TZID=America/Los_Angeles:20160826T200000
DTEND;TZID=America/Los_Angeles:20160827T200000
DTSTAMP:20260423T022041
CREATED:20160810T225434Z
LAST-MODIFIED:20160817T223932Z
UID:10000346-1472241600-1472328000@carlcherrycenter.org
SUMMARY:CSI: Carmel
DESCRIPTION:“CSI: Carmel\,” a parody of popular television series such as Castle\, Criminal Minds\, CSI\, and Law and Order: SVU\, opens Friday\, August 26th for two shows at the Carl Cherry Center for the Arts. \nDirected by Mary Spence and produced by the Actor’s Collective\, the staged-reading sends-up the TV crime genre\, and includes audience participation and a chance to offer comments on the purposefully narrow plot.  Whether you enjoy crime shows or can’t stand them\, you will have the chance to laugh-out-loud at this silly spoof. \nDoors open at 7:30 for this 8:00 reading. \nTickets are $10 and can be purchased online at www.brownpapertickets.com
URL:https://carlcherrycenter.org/event/csi-carmel/
LOCATION:The Carl Cherry Center\, Fourth and Guadalupe\, Carmel\, CA\, 93921\, United States
CATEGORIES:Cherry Hall Theater
ATTACH;FMTTYPE=image/jpeg:https://carlcherrycenter.org/wp/wp-content/uploads/2016/08/Mary-Spence.jpg
END:VEVENT
END:VCALENDAR