BEGIN:VCALENDAR
VERSION:2.0
PRODID:-//Carl Cherry Center for the Arts - ECPv6.15.20//NONSGML v1.0//EN
CALSCALE:GREGORIAN
METHOD:PUBLISH
X-WR-CALNAME:Carl Cherry Center for the Arts
X-ORIGINAL-URL:https://carlcherrycenter.org
X-WR-CALDESC:Events for Carl Cherry Center for the Arts
REFRESH-INTERVAL;VALUE=DURATION:PT1H
X-Robots-Tag:noindex
X-PUBLISHED-TTL:PT1H
BEGIN:VTIMEZONE
TZID:America/Los_Angeles
BEGIN:DAYLIGHT
TZOFFSETFROM:-0800
TZOFFSETTO:-0700
TZNAME:PDT
DTSTART:20210314T100000
END:DAYLIGHT
BEGIN:STANDARD
TZOFFSETFROM:-0700
TZOFFSETTO:-0800
TZNAME:PST
DTSTART:20211107T090000
END:STANDARD
BEGIN:DAYLIGHT
TZOFFSETFROM:-0800
TZOFFSETTO:-0700
TZNAME:PDT
DTSTART:20220313T100000
END:DAYLIGHT
BEGIN:STANDARD
TZOFFSETFROM:-0700
TZOFFSETTO:-0800
TZNAME:PST
DTSTART:20221106T090000
END:STANDARD
BEGIN:DAYLIGHT
TZOFFSETFROM:-0800
TZOFFSETTO:-0700
TZNAME:PDT
DTSTART:20230312T100000
END:DAYLIGHT
BEGIN:STANDARD
TZOFFSETFROM:-0700
TZOFFSETTO:-0800
TZNAME:PST
DTSTART:20231105T090000
END:STANDARD
END:VTIMEZONE
BEGIN:VEVENT
DTSTART;VALUE=DATE:20221028
DTEND;VALUE=DATE:20221127
DTSTAMP:20260424T044100
CREATED:20221007T183344Z
LAST-MODIFIED:20221101T154037Z
UID:10000288-1666915200-1669507199@carlcherrycenter.org
SUMMARY:Holi Moli: Beginner's Mind
DESCRIPTION:Holi Moli: Beginner’s Mind\, an exhibit focusing on expressionism\, naïve and innocent art as spiritual expressions\, opens October 28th at the Carl Cherry Center for the Arts. A reception will be held at from 5 to 7 p.m. The event is free and open to the public.\n\n\n\nHighlighting both the artwork of children and nationally-recognized artists\, the exhibit including paintings by Sam Tchakalian\, Sarah Klein\, Tom Nakashima\, Ken Hale\, Tracey Adams\, Al Carter\, Judith Foosaner\, and students from Forest Grove Elementary School in Pacific Grove\, among others. \nOriginally\, naive art was any form of visual art that reflected a fresh and innocent vision of the world and was created by a person who lacked or rejected traditional understanding in portraying those objects. The genre is now widely recognized and can include a range of mediums\, styles and motifs – from child-like scribbles with classical references to the art and poetry of antiquity to pure abstraction in painting and drawing. \nThe exhibit can be seen Wednesday through Saturday from noon to 4:00pm\, or by appointment\, through November 26th\, 2022. \nVIEW EXHIBIT HERE \nPictured: “If You Get There Before I Do” – Martin Webb
URL:https://carlcherrycenter.org/event/holi-moli-beginners-mind/
LOCATION:The Carl Cherry Center\, Fourth and Guadalupe\, Carmel\, CA\, 93921\, United States
CATEGORIES:Cherry Gallery,Highlight
ATTACH;FMTTYPE=image/png:https://carlcherrycenter.org/wp/wp-content/uploads/2022/10/Yoga-Header-.png
ORGANIZER;CN="Carl Cherry Center for the Arts":MAILTO:info@carlcherry.org
END:VEVENT
BEGIN:VEVENT
DTSTART;TZID=America/Los_Angeles:20221102T090000
DTEND;TZID=America/Los_Angeles:20221207T090000
DTSTAMP:20260424T044100
CREATED:20221027T213449Z
LAST-MODIFIED:20221213T192211Z
UID:10000739-1667379600-1670403600@carlcherrycenter.org
SUMMARY:Community Yoga Class
DESCRIPTION:CLASSES EVERY WEDNESDAY AT 9:00AM \nCommunity Yoga Class starting Wednesday Nov 2 at 9 am. Everyone is welcome! By Donation. \nYogini Jeanne has been practicing yoga for 35 years. She has trained with Richard Rosen\, Tony Sanchez\, Judith Lasater\, Shiva Rae\, Erich Schiffman\, Seane Corn\, Hala Khouri\, Jivamukti Yoga studio in NYC\, Center for Yoga & Yoga Works in L.A. & recently received her 200 hr certification with Yoga Shanti (Rodney Yee & Colleen Saidman Yee) in Sag Harbor\, NY. \n\n\n\nJeanne started teaching in ‘98 in Marin at her daughter’s preschool & Group classes in Stinson Beach. She taught privately in New York & subbed locally for Karen Cook at the Carmel Valley Raquet Club & My Om Place. Jeanne has her Blue Belt in NIA & looks forward to incorporating freedance into her classes eventually. Come one come all & experience the joy of movement\, meditation & relaxation. We will practice setting intentions\, focusing on the breath\, flowing with the breath\, letting go of our attachments & opening our hearts to ourselves\, each other & the world. We will chant to resonate & increase our vibration to a higher frequency of loving kindness (Maitri) & compassion. I look forward to opening the Anahata (heart). \nChakra with you🙏🕉📿 \n\n\nNamaste\,\nYogini Jeanne
URL:https://carlcherrycenter.org/event/community-yoga-class/2022-11-02/2/
LOCATION:The Carl Cherry Center\, Fourth and Guadalupe\, Carmel\, CA\, 93921\, United States
CATEGORIES:Cherry Gallery
ATTACH;FMTTYPE=image/jpeg:https://carlcherrycenter.org/wp/wp-content/uploads/2022/10/Yoga-Header-.jpg
ORGANIZER;CN="Carl Cherry Center for the Arts":MAILTO:info@carlcherry.org
END:VEVENT
BEGIN:VEVENT
DTSTART;VALUE=DATE:20221104
DTEND;VALUE=DATE:20221114
DTSTAMP:20260424T044100
CREATED:20220921T190757Z
LAST-MODIFIED:20220929T195347Z
UID:10000519-1667520000-1668383999@carlcherrycenter.org
SUMMARY:Artista Invisibile
DESCRIPTION:Eclectic Collective presents Artista Invisibile\, A Multimedia Theatrical Experience spotlighting women artists of all genres from the mid-1900s to 2022. \nWritten by Janice Rocke\, Rocket Garcia and award winning poet Aideed Medina. Featuring Eboni Harris\, Carri Newhouse\, Fred Bologna\, Rachele Corvese\, Joe Nance\, and OoLa Habib Rahall. Video graphics by Janice Rocke. Lighting and additional video montages by Nelsen Basden. \nEclectic Collective weaves the work of different writers into a cohesive narrative that tells one larger nonlinear story. \nThis show features acting\, dancing\, stunning visual components and even a little singing. Artista Invisibile offers a surreal\, comedic\, dramatic and beautiful experience. \nTickets are $22 General Admission/$20 Military. Tickets available on Eventbrite or by calling (831) 521-0375. Friday\, November 4th through Sunday\, November 13th.  Fridays and Saturday performances start at 8:00pm\, Sunday matinees at 3:00pm.
URL:https://carlcherrycenter.org/event/artista-invisibile/
LOCATION:The Carl Cherry Center\, Fourth and Guadalupe\, Carmel\, CA\, 93921\, United States
CATEGORIES:Cherry Hall Theater
ATTACH;FMTTYPE=image/png:https://carlcherrycenter.org/wp/wp-content/uploads/2022/09/Artiste-Header-.png
END:VEVENT
END:VCALENDAR